BEGIN:VCALENDAR
VERSION:2.0
METHOD:PUBLISH
PRODID:-//imacoda.com//SPD-Web-O-Mat//EN
CALSCALE:GREGORIAN
BEGIN:VTIMEZONE
TZID:Europe/Berlin
BEGIN:DAYLIGHT
TZOFFSETFROM:+0100
RRULE:FREQ=YEARLY;BYMONTH=3;BYDAY=-1SU
DTSTART:19810329T020000
TZNAME:MESZ
TZOFFSETTO:+0200
END:DAYLIGHT
BEGIN:STANDARD
TZOFFSETFROM:+0200
RRULE:FREQ=YEARLY;BYMONTH=10;BYDAY=-1SU
DTSTART:19961027T030000
TZNAME:MEZ
TZOFFSETTO:+0100
END:STANDARD
END:VTIMEZONE
BEGIN:VEVENT
UID:20230508T065727Z-00000916649-LULU@www.bayernspd.de
CREATED:20230508T065727Z
LAST-MODIFIED:20230518T163129Z
DTSTAMP:20230518T163129Z
TRANSP:TRANSPARENT
DTSTART;TZID=Europe/Berlin:20230605T170000
DTEND;TZID=Europe/Berlin:20230605T193000
SUMMARY:AG 60plus - Grillabend am Schlappentag 2023 (Zusatztermin)
LOCATION:Gaststätte Schützenhaus\, Hauptstr. 17\, 95028 Hof
DESCRIPTION:Termin im Web (SPD-Stadtverband Hof):\nhttps://spd-hof.de/te
 rmine/?id=916649
END:VEVENT
END:VCALENDAR
